BEGIN:VCALENDAR
VERSION:2.0
PRODID:-//Kolalux - ECPv6.15.11//NONSGML v1.0//EN
CALSCALE:GREGORIAN
METHOD:PUBLISH
X-WR-CALNAME:Kolalux
X-ORIGINAL-URL:https://kolalux.com
X-WR-CALDESC:Events for Kolalux
REFRESH-INTERVAL;VALUE=DURATION:PT1H
X-Robots-Tag:noindex
X-PUBLISHED-TTL:PT1H
BEGIN:VTIMEZONE
TZID:Africa/Johannesburg
BEGIN:STANDARD
TZOFFSETFROM:+0200
TZOFFSETTO:+0200
TZNAME:SAST
DTSTART:20230101T000000
END:STANDARD
END:VTIMEZONE
BEGIN:VEVENT
DTSTART;TZID=Africa/Johannesburg:20240829T060000
DTEND;TZID=Africa/Johannesburg:20240905T180000
DTSTAMP:20260419T150356
CREATED:20240630T202650Z
LAST-MODIFIED:20240630T203058Z
UID:7491-1724911200-1725559200@kolalux.com
SUMMARY:Heritage Month Online Auction Sale
DESCRIPTION:Ticket Price: R250 \nRequirement for participation. \n\nFees: A registration fee of R250 will be charged before participation at our auctions. The amount will be returned 24 hours after the auction is over and if the bidder does not purchase any items. All registration fees must be paid no later than 24 hours before the auction.\nAlternatively the bidder may choose to leave the registration fee if they intend to participate on an ongoing basis in our auctions\nUser must supply their accurate personal information and agree to our online auctions terms and conditions\n\nSee our Auction Catalogue
URL:https://kolalux.com/event/heritage-month-online-auction-sale/
LOCATION:Gauteng
CATEGORIES:auctions,Online Auctions,sale,specials,Womens Month
ORGANIZER;CN="Kolalux":MAILTO:info@kolalux.com
END:VEVENT
BEGIN:VEVENT
DTSTART;TZID=Africa/Johannesburg:20240809T060000
DTEND;TZID=Africa/Johannesburg:20240815T180000
DTSTAMP:20260419T150356
CREATED:20240630T164533Z
LAST-MODIFIED:20240630T164533Z
UID:7439-1723183200-1723744800@kolalux.com
SUMMARY:Women's Month Online Auction 2
DESCRIPTION:Ticket Price: R250 \nRequirement for participation. \n\nFees: A registration fee of R250 will be charged before participation at our auctions. The amount will be returned 24 hours after the auction is over and if the bidder does not purchase any items. All registration fees must be paid no later than 24 hours before the auction.\nAlternatively the bidder may choose to leave the registration fee if they intend to participate on an ongoing basis in our auctions\nUser must supply their accurate personal information and agree to our online auctions terms and conditions\n\nSee our Auction Catalogue
URL:https://kolalux.com/event/womens-month-online-auction-2/
LOCATION:Gauteng
CATEGORIES:auctions,Online Auctions,sale,specials,Womens Month
ORGANIZER;CN="Kolalux":MAILTO:info@kolalux.com
END:VEVENT
BEGIN:VEVENT
DTSTART;TZID=Africa/Johannesburg:20240727T090000
DTEND;TZID=Africa/Johannesburg:20240727T173000
DTSTAMP:20260419T150356
CREATED:20240620T115852Z
LAST-MODIFIED:20240704T154025Z
UID:6989-1722070800-1722101400@kolalux.com
SUMMARY:The Kolalux Experience Live Event
DESCRIPTION:The Kolalux Experience will be held every last Saturday of the month\, providing a luxurious and exhilarating experience for professionals\, families\, expatriates\, and businesses in the Greater Sandton Area. This family-friendly event ensures parents can enjoy the offerings while children are entertained in designated areas. \nEvent Highlights \nEach month\, the Kolalux Experience features a unique theme\, offering attendees a memorable and enriching experience. Upcoming themes include: \n\nWine Tasting and Auctions\nConcerts and Live Performances\nLifestyle Advisory Presentations\nVintage Accessories Showcases\nSeasonal Celebrations (Halloween\, Christmas\, etc.)\nInfluencer Nights and Karaoke
URL:https://kolalux.com/event/the-kolalux-experience-live-event/
LOCATION:Kolalux Offices\, Shop no. 14 Rivonia Village\, Rivonia Blvd & Mutual Rd\, Gauteng\, 2128\, South Africa
CATEGORIES:auctions,kolalux experience,Live Auctions,specials
ORGANIZER;CN="Kolalux":MAILTO:info@kolalux.com
END:VEVENT
BEGIN:VEVENT
DTSTART;TZID=Africa/Johannesburg:20240726T060000
DTEND;TZID=Africa/Johannesburg:20240801T180000
DTSTAMP:20260419T150356
CREATED:20240630T163753Z
LAST-MODIFIED:20240630T163830Z
UID:7435-1721973600-1722535200@kolalux.com
SUMMARY:Women's Month Online Auction
DESCRIPTION:Ticket Price: R250 \nRequirement for participation. \n\nFees: A registration fee of R250 will be charged before participation at our auctions. The amount will be returned 24 hours after the auction is over and if the bidder does not purchase any items. All registration fees must be paid no later than 24 hours before the auction.\nAlternatively the bidder may choose to leave the registration fee if they intend to participate on an ongoing basis in our auctions\nUser must supply their accurate personal information and agree to our online auctions terms and conditions\n\nSee our Auction Catalogue
URL:https://kolalux.com/event/womens-month-online-auction/
LOCATION:Gauteng
CATEGORIES:auctions,Online Auctions,sale,specials,Womens Month
ORGANIZER;CN="Kolalux":MAILTO:info@kolalux.com
END:VEVENT
BEGIN:VEVENT
DTSTART;TZID=Africa/Johannesburg:20240716T060000
DTEND;TZID=Africa/Johannesburg:20240723T180000
DTSTAMP:20260419T150356
CREATED:20240630T161034Z
LAST-MODIFIED:20240630T163252Z
UID:7418-1721109600-1721757600@kolalux.com
SUMMARY:July End Of Winter Sale 2 - Online Auction
DESCRIPTION:Ticket Price: R250 \nRequirement for participation. \n\nFees: A registration fee of R250 will be charged before participation at our auctions. The amount will be returned 24 hours after the auction is over and if the bidder does not purchase any items. All registration fees must be paid no later than 24 hours before the auction.\nAlternatively the bidder may choose to leave the registration fee if they intend to participate on an ongoing basis in our auctions\nUser must supply their accurate personal information and agree to our online auctions terms and conditions\n\nSee our Auction Catalogue
URL:https://kolalux.com/event/july-end-of-winter-sale-2/
LOCATION:Gauteng
CATEGORIES:auctions,end of winter sale,Online Auctions,sale,specials
ORGANIZER;CN="Kolalux":MAILTO:info@kolalux.com
END:VEVENT
BEGIN:VEVENT
DTSTART;TZID=Africa/Johannesburg:20240701T060000
DTEND;TZID=Africa/Johannesburg:20240709T180000
DTSTAMP:20260419T150356
CREATED:20240630T160607Z
LAST-MODIFIED:20240630T163158Z
UID:7414-1719813600-1720548000@kolalux.com
SUMMARY:July End Of Winter Sale - Online Auction
DESCRIPTION:Ticket Price: R250 \nRequirement for participation. \n\nFees: A registration fee of R250 will be charged before participation at our auctions. The amount will be returned 24 hours after the auction is over and if the bidder does not purchase any items. All registration fees must be paid no later than 24 hours before the auction.\nAlternatively the bidder may choose to leave the registration fee if they intend to participate on an ongoing basis in our auctions\nUser must supply their accurate personal information and agree to our online auctions terms and conditions\n\nSee our Auction Catalogue
URL:https://kolalux.com/event/july-end-of-winter-sale/
LOCATION:Gauteng
CATEGORIES:auctions,Online Auctions,sale,specials
ORGANIZER;CN="Kolalux":MAILTO:info@kolalux.com
END:VEVENT
BEGIN:VEVENT
DTSTART;TZID=Africa/Johannesburg:20240629T060000
DTEND;TZID=Africa/Johannesburg:20240629T180000
DTSTAMP:20260419T150356
CREATED:20240618T161704Z
LAST-MODIFIED:20240628T074030Z
UID:6843-1719640800-1719684000@kolalux.com
SUMMARY:June Winter Warmer Online Auction
DESCRIPTION:Ticket Price: R250 \nRequirement for participation. \n\nFees: A registration fee of R250 will be charged before participation at our auctions. The amount will be returned 24 hours after the auction is over and if the bidder does not purchase any items. All registration fees must be paid no later than 24 hours before the auction.\nAlternatively the bidder may choose to leave the registration fee if they intend to participate on an ongoing basis in our auctions\nUser must supply their accurate personal information and agree to our online auctions terms and conditions\n\nSee our Auction Catalogue
URL:https://kolalux.com/event/june-winter-warmer-online-auction/
LOCATION:Gauteng
CATEGORIES:auctions,sale,specials,winter warmer
ORGANIZER;CN="Kolalux":MAILTO:info@kolalux.com
END:VEVENT
END:VCALENDAR