BEGIN:VCALENDAR
VERSION:2.0
PRODID:-//Kolalux - ECPv6.15.11//NONSGML v1.0//EN
CALSCALE:GREGORIAN
METHOD:PUBLISH
X-WR-CALNAME:Kolalux
X-ORIGINAL-URL:https://kolalux.com
X-WR-CALDESC:Events for Kolalux
REFRESH-INTERVAL;VALUE=DURATION:PT1H
X-Robots-Tag:noindex
X-PUBLISHED-TTL:PT1H
BEGIN:VTIMEZONE
TZID:Africa/Johannesburg
BEGIN:STANDARD
TZOFFSETFROM:+0200
TZOFFSETTO:+0200
TZNAME:SAST
DTSTART:20230101T000000
END:STANDARD
END:VTIMEZONE
BEGIN:VEVENT
DTSTART;TZID=Africa/Johannesburg:20240727T090000
DTEND;TZID=Africa/Johannesburg:20240727T173000
DTSTAMP:20260419T180810
CREATED:20240620T115852Z
LAST-MODIFIED:20240704T154025Z
UID:6989-1722070800-1722101400@kolalux.com
SUMMARY:The Kolalux Experience Live Event
DESCRIPTION:The Kolalux Experience will be held every last Saturday of the month\, providing a luxurious and exhilarating experience for professionals\, families\, expatriates\, and businesses in the Greater Sandton Area. This family-friendly event ensures parents can enjoy the offerings while children are entertained in designated areas. \nEvent Highlights \nEach month\, the Kolalux Experience features a unique theme\, offering attendees a memorable and enriching experience. Upcoming themes include: \n\nWine Tasting and Auctions\nConcerts and Live Performances\nLifestyle Advisory Presentations\nVintage Accessories Showcases\nSeasonal Celebrations (Halloween\, Christmas\, etc.)\nInfluencer Nights and Karaoke
URL:https://kolalux.com/event/the-kolalux-experience-live-event/
LOCATION:Kolalux Offices\, Shop no. 14 Rivonia Village\, Rivonia Blvd & Mutual Rd\, Gauteng\, 2128\, South Africa
CATEGORIES:auctions,kolalux experience,Live Auctions,specials
ORGANIZER;CN="Kolalux":MAILTO:info@kolalux.com
END:VEVENT
END:VCALENDAR